BEGIN:VCALENDAR
VERSION:2.0
PRODID:icalendar-ruby
CALSCALE:GREGORIAN
METHOD:PUBLISH
BEGIN:VEVENT
DTSTAMP:20260421T231145Z
UID:158-1718@rupertsland.ca
DTSTART:20260421T160000Z
DTEND:20260421T170000Z
CLASS:PUBLIC
CREATED:20260421T105038
DESCRIPTION:
LAST-MODIFIED:20260421T105038
LOCATION:
SUMMARY:121st Session of Synod 
URL;VALUE=URI:https://www.rupertsland.ca/events/121st-session-of-synod/2026
 -04-21
ATTACH;FILENAME=Synod 2026 Button.png;FMTTYPE=image/png:https://dq5pwpg1q8r
 u0.cloudfront.net/2026/04/21/15/50/37/147d71e8-1a02-4c3d-ad22-b9f22b7659d5
 /Synod%202026%20Button.png
ATTACH;FILENAME="STD - October 15-17, 2026.png";FMTTYPE=image/png:https://d
 q5pwpg1q8ru0.cloudfront.net/2026/04/21/15/50/37/f6699361-1d3f-4713-bec7-ad
 626045be19/STD%20-%20October%2015-17,%202026.png
ATTACH;FILENAME="STD - October 15-17, 2026.pdf";FMTTYPE=application/pdf:htt
 ps://dq5pwpg1q8ru0.cloudfront.net/2026/04/21/15/50/37/0fbd9d2e-88cd-4831-8
 3ae-32ec368517e4/STD%20-%20October%2015-17,%202026.pdf
END:VEVENT
END:VCALENDAR
